BEGIN:VCALENDAR
VERSION:2.0
PRODID:-//hacksw/handcal//NONSGML v1.0//EN
BEGIN:VEVENT
DTSTART: 20240504T170000
DTEND:20100527T2030000
SUMMARY:BODA JOSHUA & ANDRELY
LOCATION:
DESCRIPTION: Sábado 4 de Mayo A LAS 5:00 P.M. en REG 311 M 153 L 7, 8 y 9, Calle Ciricote (Entrar por Avenida Álamos)
END:VEVENT
END:VCALENDAR